BEGIN:VCALENDAR
VERSION:2.0
PRODID:-//Universiti Sains Islam Malaysia - ECPv5.16.3.1//NONSGML v1.0//EN
CALSCALE:GREGORIAN
METHOD:PUBLISH
X-WR-CALNAME:Universiti Sains Islam Malaysia
X-ORIGINAL-URL:https://www.usim.edu.my
X-WR-CALDESC:Events for Universiti Sains Islam Malaysia
BEGIN:VTIMEZONE
TZID:UTC
BEGIN:STANDARD
TZOFFSETFROM:+0000
TZOFFSETTO:+0000
TZNAME:UTC
DTSTART:20220101T000000
END:STANDARD
END:VTIMEZONE
BEGIN:VEVENT
DTSTART;TZID=UTC:20220930T140000
DTEND;TZID=UTC:20220930T173000
DTSTAMP:20260425T234140
CREATED:20220908T011906Z
LAST-MODIFIED:20220908T012127Z
UID:71371-1664546400-1664559000@www.usim.edu.my
SUMMARY:Majlis Anugerah Sanjungan Budi Tahun 2022
DESCRIPTION:
URL:https://www.usim.edu.my/event/majlis-anugerah-sanjungan-budi-tahun-2022/
LOCATION:DEWAN KOLEJ GENIUS INSAN
CATEGORIES:Staff
END:VEVENT
END:VCALENDAR