BEGIN:VCALENDAR
VERSION:2.0
PRODID:-//Universiti Sains Islam Malaysia - ECPv5.16.3.1//NONSGML v1.0//EN
CALSCALE:GREGORIAN
METHOD:PUBLISH
X-WR-CALNAME:Universiti Sains Islam Malaysia
X-ORIGINAL-URL:https://www.usim.edu.my
X-WR-CALDESC:Events for Universiti Sains Islam Malaysia
BEGIN:VTIMEZONE
TZID:UTC
BEGIN:STANDARD
TZOFFSETFROM:+0000
TZOFFSETTO:+0000
TZNAME:UTC
DTSTART:20220101T000000
END:STANDARD
END:VTIMEZONE
BEGIN:VEVENT
DTSTART;TZID=UTC:20220811T110000
DTEND;TZID=UTC:20220811T130000
DTSTAMP:20260422T061718
CREATED:20220802T032426Z
LAST-MODIFIED:20220803T070030Z
UID:69149-1660215600-1660222800@www.usim.edu.my
SUMMARY:Majlis Lonjakan Kuantum Dan Lafaz Ikrar Sesi Taaruf Tamhidi Sesi Akademik 2022/2023
DESCRIPTION:TETAMU KEHORMAT / PERASMI\n:\nYBG. NAIB CANSELOR USIM
URL:https://www.usim.edu.my/event/majlis-lonjakan-kuantum-dan-lafaz-ikrar-sesi-taaruf-tamhidi-sesi-akademik-2022-2023/
LOCATION:DEWAN TUANKU CANSELOR (DTC) USIM
CATEGORIES:Staff,Student
END:VEVENT
END:VCALENDAR