BEGIN:VCALENDAR
VERSION:2.0
PRODID:-//Universiti Sains Islam Malaysia - ECPv5.16.3.1//NONSGML v1.0//EN
CALSCALE:GREGORIAN
METHOD:PUBLISH
X-WR-CALNAME:Universiti Sains Islam Malaysia
X-ORIGINAL-URL:https://www.usim.edu.my
X-WR-CALDESC:Events for Universiti Sains Islam Malaysia
BEGIN:VTIMEZONE
TZID:UTC
BEGIN:STANDARD
TZOFFSETFROM:+0000
TZOFFSETTO:+0000
TZNAME:UTC
DTSTART:20220101T000000
END:STANDARD
END:VTIMEZONE
BEGIN:VEVENT
DTSTART;TZID=UTC:20220822T140000
DTEND;TZID=UTC:20220822T160000
DTSTAMP:20260422T061716
CREATED:20220809T074801Z
LAST-MODIFIED:20220809T074822Z
UID:69424-1661176800-1661184000@www.usim.edu.my
SUMMARY:Majlis Menandatangani Memorandum Perjanjian (MoA) Antara Universiti Sains Islam Malaysia Dan Nestlé Products Sdn. Bhd.
DESCRIPTION:TETAMU KEHORMAT / PERASMI\n:\nNAIB CANSELOR & PENGARAH EKSEKUTIF KUMPULAN HAL EHWAL KORPORAT
URL:https://www.usim.edu.my/event/majlis-menandatangani-memorandum-perjanjian-moa-antara-universiti-sains-islam-malaysia-dan-nestle-products-sdn-bhd/
LOCATION:HOTEL TENERA\, BANDAR BARU BANGI
CATEGORIES:Staff
END:VEVENT
END:VCALENDAR