BEGIN:VCALENDAR
VERSION:2.0
PRODID:-//Universiti Sains Islam Malaysia - ECPv5.16.3.1//NONSGML v1.0//EN
CALSCALE:GREGORIAN
METHOD:PUBLISH
X-WR-CALNAME:Universiti Sains Islam Malaysia
X-ORIGINAL-URL:https://www.usim.edu.my
X-WR-CALDESC:Events for Universiti Sains Islam Malaysia
BEGIN:VTIMEZONE
TZID:UTC
BEGIN:STANDARD
TZOFFSETFROM:+0000
TZOFFSETTO:+0000
TZNAME:UTC
DTSTART:20250101T000000
END:STANDARD
END:VTIMEZONE
BEGIN:VEVENT
DTSTART;TZID=UTC:20250926T073000
DTEND;TZID=UTC:20250926T100000
DTSTAMP:20260425T065620
CREATED:20250923T080823Z
LAST-MODIFIED:20250923T082043Z
UID:120729-1758871800-1758880800@www.usim.edu.my
SUMMARY:Majlis Menandatangani Memorandum Persefahaman (MoA) Antara Universiti Malaysia Sabah (UMS) Dan Universiti Sains Islam Malaysia (USIM)
DESCRIPTION:
URL:https://www.usim.edu.my/event/majlis-menandatangani-memorandum-persefahaman-moa-antara-universiti-malaysia-sabah-ums-dan-universiti-sains-islam-malaysia-usim/
LOCATION:Bilik Mesyuarat Lembaga Eksekutif (BMLE)\, Bangunan Canselori\, UMS
CATEGORIES:Staff
END:VEVENT
END:VCALENDAR