BEGIN:VCALENDAR
VERSION:2.0
PRODID:-//Universiti Sains Islam Malaysia - ECPv5.16.3.1//NONSGML v1.0//EN
CALSCALE:GREGORIAN
METHOD:PUBLISH
X-WR-CALNAME:Universiti Sains Islam Malaysia
X-ORIGINAL-URL:https://www.usim.edu.my
X-WR-CALDESC:Events for Universiti Sains Islam Malaysia
BEGIN:VTIMEZONE
TZID:UTC
BEGIN:STANDARD
TZOFFSETFROM:+0000
TZOFFSETTO:+0000
TZNAME:UTC
DTSTART:20220101T000000
END:STANDARD
END:VTIMEZONE
BEGIN:VEVENT
DTSTART;TZID=UTC:20221011T143000
DTEND;TZID=UTC:20221011T160000
DTSTAMP:20260425T235412
CREATED:20221003T032757Z
LAST-MODIFIED:20221003T032823Z
UID:72312-1665498600-1665504000@www.usim.edu.my
SUMMARY:Majlis Menandatangani Memorandum Persefahaman (MOU) Antara Universiti Sains Islam Malaysia (USIM) Dan SANICHEM Resources Sdn. Bhd.
DESCRIPTION:
URL:https://www.usim.edu.my/event/majlis-menandatangani-memorandum-persefahaman-mou-antara-universiti-sains-islam-malaysia-usim-dan-sanichem-resources-sdn-bhd/
LOCATION:Executive Lounge\, Bangunan Canselori
CATEGORIES:Staff
END:VEVENT
END:VCALENDAR