BEGIN:VCALENDAR
VERSION:2.0
PRODID:-//Universiti Sains Islam Malaysia - ECPv5.16.3.1//NONSGML v1.0//EN
CALSCALE:GREGORIAN
METHOD:PUBLISH
X-WR-CALNAME:Universiti Sains Islam Malaysia
X-ORIGINAL-URL:https://www.usim.edu.my
X-WR-CALDESC:Events for Universiti Sains Islam Malaysia
BEGIN:VTIMEZONE
TZID:UTC
BEGIN:STANDARD
TZOFFSETFROM:+0000
TZOFFSETTO:+0000
TZNAME:UTC
DTSTART:20230101T000000
END:STANDARD
END:VTIMEZONE
BEGIN:VEVENT
DTSTART;TZID=UTC:20230227T153000
DTEND;TZID=UTC:20230227T163000
DTSTAMP:20260421T085753
CREATED:20230228T012934Z
LAST-MODIFIED:20230228T013004Z
UID:76952-1677511800-1677515400@www.usim.edu.my
SUMMARY:Majlis Pelancaran GISO 2023
DESCRIPTION:
URL:https://www.usim.edu.my/event/majlis-pelancaran-giso-2023-2/
LOCATION:Lobi Dewan Tuanku Canselor
CATEGORIES:Staff
END:VEVENT
END:VCALENDAR