BEGIN:VCALENDAR
VERSION:2.0
PRODID:-//Universiti Sains Islam Malaysia - ECPv5.16.3.1//NONSGML v1.0//EN
CALSCALE:GREGORIAN
METHOD:PUBLISH
X-WR-CALNAME:Universiti Sains Islam Malaysia
X-ORIGINAL-URL:https://www.usim.edu.my
X-WR-CALDESC:Events for Universiti Sains Islam Malaysia
BEGIN:VTIMEZONE
TZID:UTC
BEGIN:STANDARD
TZOFFSETFROM:+0000
TZOFFSETTO:+0000
TZNAME:UTC
DTSTART:20220101T000000
END:STANDARD
END:VTIMEZONE
BEGIN:VEVENT
DTSTART;TZID=UTC:20221026T090000
DTEND;TZID=UTC:20221026T120000
DTSTAMP:20260426T100151
CREATED:20221025T140307Z
LAST-MODIFIED:20221025T140405Z
UID:72769-1666774800-1666785600@www.usim.edu.my
SUMMARY:Majlis Pelancaran Program Siswa Sulung Keluarga Malaysia (Sulung) Dan Penyampaian Surat Tawaran Program Penajaan Kpt
DESCRIPTION:
URL:https://www.usim.edu.my/event/majlis-pelancaran-program-siswa-sulung-keluarga-malaysia-sulung-dan-penyampaian-surat-tawaran-program-penajaan-kpt/
LOCATION:DEWAN SULTAN IBRAHIM\, UTHM\, BATU PAHAT\, JOHOR
CATEGORIES:Staff
END:VEVENT
END:VCALENDAR