BEGIN:VCALENDAR
VERSION:2.0
PRODID:-//Universiti Sains Islam Malaysia - ECPv5.16.3.1//NONSGML v1.0//EN
CALSCALE:GREGORIAN
METHOD:PUBLISH
X-WR-CALNAME:Universiti Sains Islam Malaysia
X-ORIGINAL-URL:https://www.usim.edu.my
X-WR-CALDESC:Events for Universiti Sains Islam Malaysia
BEGIN:VTIMEZONE
TZID:UTC
BEGIN:STANDARD
TZOFFSETFROM:+0000
TZOFFSETTO:+0000
TZNAME:UTC
DTSTART:20250101T000000
END:STANDARD
END:VTIMEZONE
BEGIN:VEVENT
DTSTART;TZID=UTC:20251011T090000
DTEND;TZID=UTC:20251011T100000
DTSTAMP:20260424T203739
CREATED:20251010T022820Z
LAST-MODIFIED:20251010T030656Z
UID:121313-1760173200-1760176800@www.usim.edu.my
SUMMARY:Majlis Pelancaran Silent Counseling wall sempena program pencegahan dadah dan bahan di Hari Sukan Negara\, anjura SPADA FKP\, USIM
DESCRIPTION:
URL:https://www.usim.edu.my/event/majlis-pelancaran-silent-counseling-wall-sempena-program-pencegahan-dadah-dan-bahan-di-hari-sukan-negara-anjura-spada-fkp-usim/
LOCATION:d’Tempat Country Club\, Sendayan Seremban
CATEGORIES:Staff
END:VEVENT
END:VCALENDAR