BEGIN:VCALENDAR
VERSION:2.0
PRODID:-//Universiti Sains Islam Malaysia - ECPv5.16.3.1//NONSGML v1.0//EN
CALSCALE:GREGORIAN
METHOD:PUBLISH
X-WR-CALNAME:Universiti Sains Islam Malaysia
X-ORIGINAL-URL:https://www.usim.edu.my
X-WR-CALDESC:Events for Universiti Sains Islam Malaysia
BEGIN:VTIMEZONE
TZID:UTC
BEGIN:STANDARD
TZOFFSETFROM:+0000
TZOFFSETTO:+0000
TZNAME:UTC
DTSTART:20240101T000000
END:STANDARD
END:VTIMEZONE
BEGIN:VEVENT
DTSTART;TZID=UTC:20240930T100000
DTEND;TZID=UTC:20240930T110000
DTSTAMP:20260420T141540
CREATED:20240930T065000Z
LAST-MODIFIED:20240930T065000Z
UID:98595-1727690400-1727694000@www.usim.edu.my
SUMMARY:Majlis Pelantikan Felo Kehormat U-KIT
DESCRIPTION:
URL:https://www.usim.edu.my/event/majlis-pelantikan-felo-kehormat-u-kit/
LOCATION:EXECUTIVE LOUNGE
CATEGORIES:Staff
END:VEVENT
END:VCALENDAR