BEGIN:VCALENDAR
VERSION:2.0
PRODID:-//Universiti Sains Islam Malaysia - ECPv5.16.3.1//NONSGML v1.0//EN
CALSCALE:GREGORIAN
METHOD:PUBLISH
X-WR-CALNAME:Universiti Sains Islam Malaysia
X-ORIGINAL-URL:https://www.usim.edu.my
X-WR-CALDESC:Events for Universiti Sains Islam Malaysia
BEGIN:VTIMEZONE
TZID:UTC
BEGIN:STANDARD
TZOFFSETFROM:+0000
TZOFFSETTO:+0000
TZNAME:UTC
DTSTART:20240101T000000
END:STANDARD
END:VTIMEZONE
BEGIN:VEVENT
DTSTART;TZID=UTC:20240626T143000
DTEND;TZID=UTC:20240626T163000
DTSTAMP:20260422T145655
CREATED:20240621T081412Z
LAST-MODIFIED:20240621T081533Z
UID:97061-1719412200-1719419400@www.usim.edu.my
SUMMARY:Majlis Penutupan Science Festival 2024 (SCIFeST’24)
DESCRIPTION:
URL:https://www.usim.edu.my/event/majlis-penutupan-science-festival-2024-scifest24/
LOCATION:KHEMAH UTAMA SCIFeST’24
CATEGORIES:Staff
END:VEVENT
END:VCALENDAR