BEGIN:VCALENDAR
VERSION:2.0
PRODID:-//Universiti Sains Islam Malaysia - ECPv5.16.3.1//NONSGML v1.0//EN
CALSCALE:GREGORIAN
METHOD:PUBLISH
X-WR-CALNAME:Universiti Sains Islam Malaysia
X-ORIGINAL-URL:https://www.usim.edu.my
X-WR-CALDESC:Events for Universiti Sains Islam Malaysia
BEGIN:VTIMEZONE
TZID:UTC
BEGIN:STANDARD
TZOFFSETFROM:+0000
TZOFFSETTO:+0000
TZNAME:UTC
DTSTART:20220101T000000
END:STANDARD
END:VTIMEZONE
BEGIN:VEVENT
DTSTART;TZID=UTC:20221012T110000
DTEND;TZID=UTC:20221012T133000
DTSTAMP:20260425T233516
CREATED:20221011T065536Z
LAST-MODIFIED:20221011T065641Z
UID:72378-1665572400-1665581400@www.usim.edu.my
SUMMARY:Majlis Perasmian Penutupan Pertandingan Debat Antirasuah IPTA
DESCRIPTION:
URL:https://www.usim.edu.my/event/majlis-perasmian-penutupan-pertandingan-debat-antirasuah-ipta/
LOCATION:DEWAN KULIAH UTAMA FPQS
CATEGORIES:Staff
END:VEVENT
END:VCALENDAR