BEGIN:VCALENDAR
VERSION:2.0
PRODID:-//Universiti Sains Islam Malaysia - ECPv5.16.3.1//NONSGML v1.0//EN
CALSCALE:GREGORIAN
METHOD:PUBLISH
X-WR-CALNAME:Universiti Sains Islam Malaysia
X-ORIGINAL-URL:https://www.usim.edu.my
X-WR-CALDESC:Events for Universiti Sains Islam Malaysia
BEGIN:VTIMEZONE
TZID:Asia/Kuala_Lumpur
BEGIN:STANDARD
TZOFFSETFROM:+0800
TZOFFSETTO:+0800
TZNAME:+08
DTSTART:20190101T000000
END:STANDARD
END:VTIMEZONE
BEGIN:VEVENT
DTSTART;TZID=Asia/Kuala_Lumpur:20190807T143000
DTEND;TZID=Asia/Kuala_Lumpur:20190807T170000
DTSTAMP:20260423T224207
CREATED:20190726T015221Z
LAST-MODIFIED:20190726T015221Z
UID:51049-1565188200-1565197200@www.usim.edu.my
SUMMARY:Majlis Serahan Pelantikan Profesor Adjung Kepada Sasterawan Negara 2019
DESCRIPTION:
URL:https://www.usim.edu.my/event/majlis-serahan-pelantikan-profesor-adjung-kepada-sasterawan-negara-2019/
LOCATION:usim
CATEGORIES:Academic,Administration,Staff,Student
END:VEVENT
END:VCALENDAR