BEGIN:VCALENDAR
VERSION:2.0
PRODID:-//Universiti Sains Islam Malaysia - ECPv5.16.3.1//NONSGML v1.0//EN
CALSCALE:GREGORIAN
METHOD:PUBLISH
X-WR-CALNAME:Universiti Sains Islam Malaysia
X-ORIGINAL-URL:https://www.usim.edu.my
X-WR-CALDESC:Events for Universiti Sains Islam Malaysia
BEGIN:VTIMEZONE
TZID:UTC
BEGIN:STANDARD
TZOFFSETFROM:+0000
TZOFFSETTO:+0000
TZNAME:UTC
DTSTART:20220101T000000
END:STANDARD
END:VTIMEZONE
BEGIN:VEVENT
DTSTART;TZID=UTC:20220905T090000
DTEND;TZID=UTC:20220905T103000
DTSTAMP:20260422T200125
CREATED:20220901T072443Z
LAST-MODIFIED:20220901T072513Z
UID:71317-1662368400-1662373800@www.usim.edu.my
SUMMARY:Memorandum Persefahaman (MoU) di antara USIM dengan Institut Agama Islam Negeri Kerinci\, Indonesia
DESCRIPTION:Memorandum Persefahaman (MoU) di antara USIM dengan Institut Agama Islam Negeri Kerinci\, Indonesia
URL:https://www.usim.edu.my/event/memorandum-persefahaman-mou-di-antara-usim-dengan-institut-agama-islam-negeri-kerinci-indonesia/
LOCATION:BILIK MESYUARAT UTAMA\, ARAS 2\, FSU
CATEGORIES:Staff
END:VEVENT
END:VCALENDAR