BEGIN:VCALENDAR
VERSION:2.0
PRODID:-//Universiti Sains Islam Malaysia - ECPv5.16.3.1//NONSGML v1.0//EN
CALSCALE:GREGORIAN
METHOD:PUBLISH
X-WR-CALNAME:Universiti Sains Islam Malaysia
X-ORIGINAL-URL:https://www.usim.edu.my
X-WR-CALDESC:Events for Universiti Sains Islam Malaysia
BEGIN:VTIMEZONE
TZID:UTC
BEGIN:STANDARD
TZOFFSETFROM:+0000
TZOFFSETTO:+0000
TZNAME:UTC
DTSTART:20260101T000000
END:STANDARD
END:VTIMEZONE
BEGIN:VEVENT
DTSTART;TZID=UTC:20260406T201500
DTEND;TZID=UTC:20260407T090000
DTSTAMP:20260422T111219
CREATED:20260421T034418Z
LAST-MODIFIED:20260421T034558Z
UID:126136-1775506500-1775552400@www.usim.edu.my
SUMMARY:Mengalu-Alukan Kehadiran Yab MB NS - Majlis Konvokesyen Kolej Vokasional Kpm Kali Ke-10 Tahun 2025
DESCRIPTION:
URL:https://www.usim.edu.my/event/mengalu-alukan-kehadiran-yab-mb-ns-majlis-konvokesyen-kolej-vokasional-kpm-kali-ke-10-tahun-2025/
LOCATION:Dewan Tuanku Canselor\, USIM
CATEGORIES:Staff,Student
END:VEVENT
END:VCALENDAR