BEGIN:VCALENDAR
VERSION:2.0
PRODID:-//Universiti Sains Islam Malaysia - ECPv5.16.3.1//NONSGML v1.0//EN
CALSCALE:GREGORIAN
METHOD:PUBLISH
X-WR-CALNAME:Universiti Sains Islam Malaysia
X-ORIGINAL-URL:https://www.usim.edu.my
X-WR-CALDESC:Events for Universiti Sains Islam Malaysia
BEGIN:VTIMEZONE
TZID:UTC
BEGIN:STANDARD
TZOFFSETFROM:+0000
TZOFFSETTO:+0000
TZNAME:UTC
DTSTART:20250101T000000
END:STANDARD
END:VTIMEZONE
BEGIN:VEVENT
DTSTART;TZID=UTC:20251010T090000
DTEND;TZID=UTC:20251010T103000
DTSTAMP:20260424T201541
CREATED:20251010T070627Z
LAST-MODIFIED:20251010T070739Z
UID:121370-1760086800-1760092200@www.usim.edu.my
SUMMARY:Mesyuarat Penutupan Audit Dalaman Bersepadu (ADaB) Usim Tahun 2025
DESCRIPTION:
URL:https://www.usim.edu.my/event/mesyuarat-penutupan-audit-dalaman-bersepadu-adab-usim-tahun-2025/
LOCATION:Dewan Senat\, Aras 3\, Canselori
CATEGORIES:Staff
END:VEVENT
END:VCALENDAR