BEGIN:VCALENDAR
VERSION:2.0
PRODID:-//Universiti Sains Islam Malaysia - ECPv5.16.3.1//NONSGML v1.0//EN
CALSCALE:GREGORIAN
METHOD:PUBLISH
X-WR-CALNAME:Universiti Sains Islam Malaysia
X-ORIGINAL-URL:https://www.usim.edu.my
X-WR-CALDESC:Events for Universiti Sains Islam Malaysia
BEGIN:VTIMEZONE
TZID:UTC
BEGIN:STANDARD
TZOFFSETFROM:+0000
TZOFFSETTO:+0000
TZNAME:UTC
DTSTART:20220101T000000
END:STANDARD
END:VTIMEZONE
BEGIN:VEVENT
DTSTART;TZID=UTC:20221002T130000
DTEND;TZID=UTC:20221002T150000
DTSTAMP:20260425T233457
CREATED:20220930T082649Z
LAST-MODIFIED:20220930T082730Z
UID:72278-1664715600-1664722800@www.usim.edu.my
SUMMARY:Penyerahan Surat Tawaran Program Sulung USIM
DESCRIPTION:
URL:https://www.usim.edu.my/event/penyerahan-surat-tawaran-program-sulung-usim/
LOCATION:2-0-04\, Jalan SB4\, Taman Seri Bayan\, Gangsa\, Durian Tunggal\, 76100\, Melaka
CATEGORIES:Staff
END:VEVENT
END:VCALENDAR