BEGIN:VCALENDAR
VERSION:2.0
PRODID:-//Universiti Sains Islam Malaysia - ECPv5.16.3.1//NONSGML v1.0//EN
CALSCALE:GREGORIAN
METHOD:PUBLISH
X-WR-CALNAME:Universiti Sains Islam Malaysia
X-ORIGINAL-URL:https://www.usim.edu.my
X-WR-CALDESC:Events for Universiti Sains Islam Malaysia
BEGIN:VTIMEZONE
TZID:Asia/Kuala_Lumpur
BEGIN:STANDARD
TZOFFSETFROM:+0800
TZOFFSETTO:+0800
TZNAME:+08
DTSTART:20220101T000000
END:STANDARD
END:VTIMEZONE
BEGIN:VEVENT
DTSTART;TZID=Asia/Kuala_Lumpur:20220404T093000
DTEND;TZID=Asia/Kuala_Lumpur:20220404T113000
DTSTAMP:20260424T072810
CREATED:20220331T021509Z
LAST-MODIFIED:20220331T021527Z
UID:67277-1649064600-1649071800@www.usim.edu.my
SUMMARY:Perjumpaan Naib Canselor USIM bersama Kementerian Pertahanan Malaysia
DESCRIPTION:TETAMU KEHORMAT / PERASMI\n:\nNC DAN MINDEF
URL:https://www.usim.edu.my/event/perjumpaan-naib-canselor-usim-bersama-kementerian-pertahanan-malaysia/
LOCATION:Pejabat Naib Canselor
CATEGORIES:Administration,Staff,Student
END:VEVENT
END:VCALENDAR