BEGIN:VCALENDAR
VERSION:2.0
PRODID:-//Universiti Sains Islam Malaysia - ECPv5.16.3.1//NONSGML v1.0//EN
CALSCALE:GREGORIAN
METHOD:PUBLISH
X-WR-CALNAME:Universiti Sains Islam Malaysia
X-ORIGINAL-URL:https://www.usim.edu.my
X-WR-CALDESC:Events for Universiti Sains Islam Malaysia
BEGIN:VTIMEZONE
TZID:UTC
BEGIN:STANDARD
TZOFFSETFROM:+0000
TZOFFSETTO:+0000
TZNAME:UTC
DTSTART:20240101T000000
END:STANDARD
END:VTIMEZONE
BEGIN:VEVENT
DTSTART;TZID=UTC:20240912T080000
DTEND;TZID=UTC:20240912T170000
DTSTAMP:20260420T221208
CREATED:20240910T065307Z
LAST-MODIFIED:20240910T065532Z
UID:98443-1726128000-1726160400@www.usim.edu.my
SUMMARY:Program Anugerah Kecemerlangan Abqari (AKRAB 2024)\, Majlis Haflah Qudwatul Quran Insan 2024 (HAQQI 2024) & Hari Pelaporan Prestasi Akademik (LIQA’ MAHABBAH) Semester 1/2024
DESCRIPTION:
URL:https://www.usim.edu.my/event/program-anugerah-kecemerlangan-abqari-akrab-2024-majlis-haflah-qudwatul-quran-insan-2024-haqqi-2024-hari-pelaporan-prestasi-akademik-liqa-mahabbah-semester-1-2024/
LOCATION:DEWAN SERBAGUNA\, KOLEJ PERMATA INSAN\, UNIVERSITI SAINS ISLAM MALAYSIA (USIM)
CATEGORIES:Staff
END:VEVENT
END:VCALENDAR