BEGIN:VCALENDAR
VERSION:2.0
PRODID:-//Universiti Sains Islam Malaysia - ECPv5.16.3.1//NONSGML v1.0//EN
CALSCALE:GREGORIAN
METHOD:PUBLISH
X-WR-CALNAME:Universiti Sains Islam Malaysia
X-ORIGINAL-URL:https://www.usim.edu.my
X-WR-CALDESC:Events for Universiti Sains Islam Malaysia
BEGIN:VTIMEZONE
TZID:UTC
BEGIN:STANDARD
TZOFFSETFROM:+0000
TZOFFSETTO:+0000
TZNAME:UTC
DTSTART:20220101T000000
END:STANDARD
END:VTIMEZONE
BEGIN:VEVENT
DTSTART;TZID=UTC:20220811T090000
DTEND;TZID=UTC:20220811T140000
DTSTAMP:20260422T061448
CREATED:20220809T023509Z
LAST-MODIFIED:20220809T023533Z
UID:69405-1660208400-1660226400@www.usim.edu.my
SUMMARY:Program Bubur Asyura Muharram 1444H
DESCRIPTION:TETAMU KEHORMAT / PERASMI\n:\nYBHG. TIMB. NAIB CANSELOR HEPA
URL:https://www.usim.edu.my/event/program-bubur-asyura-muharram-1444h/
LOCATION:KOMPLEKS ISLAM TUANKU MUHRIZ USIM
CATEGORIES:Staff
END:VEVENT
END:VCALENDAR