BEGIN:VCALENDAR
VERSION:2.0
PRODID:-//Universiti Sains Islam Malaysia - ECPv5.16.3.1//NONSGML v1.0//EN
CALSCALE:GREGORIAN
METHOD:PUBLISH
X-WR-CALNAME:Universiti Sains Islam Malaysia
X-ORIGINAL-URL:https://www.usim.edu.my
X-WR-CALDESC:Events for Universiti Sains Islam Malaysia
BEGIN:VTIMEZONE
TZID:UTC
BEGIN:STANDARD
TZOFFSETFROM:+0000
TZOFFSETTO:+0000
TZNAME:UTC
DTSTART:20240101T000000
END:STANDARD
END:VTIMEZONE
BEGIN:VEVENT
DTSTART;TZID=UTC:20240814T153000
DTEND;TZID=UTC:20240814T170000
DTSTAMP:20260421T204742
CREATED:20240814T022129Z
LAST-MODIFIED:20240814T022129Z
UID:97948-1723649400-1723654800@www.usim.edu.my
SUMMARY:Program Khidmat Masyarakat Program Transformasi Minda
DESCRIPTION:
URL:https://www.usim.edu.my/event/program-khidmat-masyarakat-program-transformasi-minda/
LOCATION:SEKOLAH RENDAH AGAMA \, KG LABOHAN DAGANG\, BANTING SELANGOR
CATEGORIES:Staff
END:VEVENT
END:VCALENDAR