BEGIN:VCALENDAR
VERSION:2.0
PRODID:-//Universiti Sains Islam Malaysia - ECPv5.16.3.1//NONSGML v1.0//EN
CALSCALE:GREGORIAN
METHOD:PUBLISH
X-WR-CALNAME:Universiti Sains Islam Malaysia
X-ORIGINAL-URL:https://www.usim.edu.my
X-WR-CALDESC:Events for Universiti Sains Islam Malaysia
BEGIN:VTIMEZONE
TZID:Asia/Kuala_Lumpur
BEGIN:STANDARD
TZOFFSETFROM:+0800
TZOFFSETTO:+0800
TZNAME:+08
DTSTART:20220101T000000
END:STANDARD
END:VTIMEZONE
BEGIN:VEVENT
DTSTART;TZID=Asia/Kuala_Lumpur:20221019T083000
DTEND;TZID=Asia/Kuala_Lumpur:20221019T113000
DTSTAMP:20260426T031041
CREATED:20221019T011516Z
LAST-MODIFIED:20221019T011807Z
UID:72704-1666168200-1666179000@www.usim.edu.my
SUMMARY:Program Lawatan Tuan Yang Terutama Duta Besar Jepun Ke Malaysia\, Tyt Takahashi Katsuhiko Ke USIM Bersempena Program Siri Syarahan Umum Pusat Bahasa Dan Kebudayaan Jepun
DESCRIPTION:
URL:https://www.usim.edu.my/event/program-lawatan-tuan-yang-terutama-duta-besar-jepun-ke-malaysia-tyt-takahashi-katsuhiko-ke-usim-bersempena-program-siri-syarahan-umum-pusat-bahasa-dan-kebudayaan-jepun/
CATEGORIES:Staff
END:VEVENT
END:VCALENDAR