BEGIN:VCALENDAR
VERSION:2.0
PRODID:-//Universiti Sains Islam Malaysia - ECPv5.16.3.1//NONSGML v1.0//EN
CALSCALE:GREGORIAN
METHOD:PUBLISH
X-WR-CALNAME:Universiti Sains Islam Malaysia
X-ORIGINAL-URL:https://www.usim.edu.my
X-WR-CALDESC:Events for Universiti Sains Islam Malaysia
BEGIN:VTIMEZONE
TZID:UTC
BEGIN:STANDARD
TZOFFSETFROM:+0000
TZOFFSETTO:+0000
TZNAME:UTC
DTSTART:20250101T000000
END:STANDARD
END:VTIMEZONE
BEGIN:VEVENT
DTSTART;TZID=UTC:20251008T090000
DTEND;TZID=UTC:20251008T130000
DTSTAMP:20260424T181146
CREATED:20250912T073155Z
LAST-MODIFIED:20250918T000430Z
UID:120404-1759914000-1759928400@www.usim.edu.my
SUMMARY:Program National Education e-Gamification Challenge 2025 (EduGC 2025)
DESCRIPTION:
URL:https://www.usim.edu.my/event/program-national-education-e-gamification-challenge-2025-edugc-2025/
LOCATION:DEWAN UTAMA\, FPBU
CATEGORIES:Academic,Student
END:VEVENT
END:VCALENDAR