BEGIN:VCALENDAR
VERSION:2.0
PRODID:-//Universiti Sains Islam Malaysia - ECPv5.16.3.1//NONSGML v1.0//EN
CALSCALE:GREGORIAN
METHOD:PUBLISH
X-WR-CALNAME:Universiti Sains Islam Malaysia
X-ORIGINAL-URL:https://www.usim.edu.my
X-WR-CALDESC:Events for Universiti Sains Islam Malaysia
BEGIN:VTIMEZONE
TZID:UTC
BEGIN:STANDARD
TZOFFSETFROM:+0000
TZOFFSETTO:+0000
TZNAME:UTC
DTSTART:20220101T000000
END:STANDARD
END:VTIMEZONE
BEGIN:VEVENT
DTSTART;TZID=UTC:20220929T080000
DTEND;TZID=UTC:20220929T170000
DTSTAMP:20260425T234140
CREATED:20220908T023346Z
LAST-MODIFIED:20220908T023412Z
UID:71418-1664438400-1664470800@www.usim.edu.my
SUMMARY:Seminar Pengantarabangsaan Pengajian Tinggi 2022
DESCRIPTION:
URL:https://www.usim.edu.my/event/seminar-pengantarabangsaan-pengajian-tinggi-2022/
LOCATION:FPQS
CATEGORIES:Staff
END:VEVENT
END:VCALENDAR