BEGIN:VCALENDAR
VERSION:2.0
PRODID:-//Universiti Sains Islam Malaysia - ECPv5.16.3.1//NONSGML v1.0//EN
CALSCALE:GREGORIAN
METHOD:PUBLISH
X-WR-CALNAME:Universiti Sains Islam Malaysia
X-ORIGINAL-URL:https://www.usim.edu.my
X-WR-CALDESC:Events for Universiti Sains Islam Malaysia
BEGIN:VTIMEZONE
TZID:UTC
BEGIN:STANDARD
TZOFFSETFROM:+0000
TZOFFSETTO:+0000
TZNAME:UTC
DTSTART:20220101T000000
END:STANDARD
END:VTIMEZONE
BEGIN:VEVENT
DTSTART;TZID=UTC:20220804T083000
DTEND;TZID=UTC:20220804T120000
DTSTAMP:20260426T085320
CREATED:20220803T064247Z
LAST-MODIFIED:20220803T064310Z
UID:69185-1659601800-1659614400@www.usim.edu.my
SUMMARY:Showcase & Majlis Perasmian Penutup Minecraft Kampus Barakah Challenge (MKBC '22)
DESCRIPTION:TETAMU KEHORMAT / PERASMI\n:\nProf. Dr. Mohd Radhi Ibrahim\, Timbalan Naib Canselor (Akademik Dan Antarabangsa) USIM
URL:https://www.usim.edu.my/event/showcase-majlis-perasmian-penutup-minecraft-kampus-barakah-challenge-mkbc-22/
LOCATION:Dewan Senat
CATEGORIES:Staff,Student
END:VEVENT
END:VCALENDAR