BEGIN:VCALENDAR
VERSION:2.0
PRODID:-//Universiti Sains Islam Malaysia - ECPv5.16.3.1//NONSGML v1.0//EN
CALSCALE:GREGORIAN
METHOD:PUBLISH
X-WR-CALNAME:Universiti Sains Islam Malaysia
X-ORIGINAL-URL:https://www.usim.edu.my
X-WR-CALDESC:Events for Universiti Sains Islam Malaysia
BEGIN:VTIMEZONE
TZID:UTC
BEGIN:STANDARD
TZOFFSETFROM:+0000
TZOFFSETTO:+0000
TZNAME:UTC
DTSTART:20220101T000000
END:STANDARD
END:VTIMEZONE
BEGIN:VEVENT
DTSTART;TZID=UTC:20220915T080000
DTEND;TZID=UTC:20220924T170000
DTSTAMP:20260425T235340
CREATED:20220908T023010Z
LAST-MODIFIED:20220908T023058Z
UID:71413-1663228800-1664038800@www.usim.edu.my
SUMMARY:Sukan Malaysia (SUKMA) 2022 (Acara Memanah dan Pencak Silat)
DESCRIPTION:Pusat Sukan USIM sebagai Venue SUKMA 2022
URL:https://www.usim.edu.my/event/sukan-malaysia-sukma-2022-acara-memanah-dan-pencak-silat/
LOCATION:Pusat Sukan USIM
CATEGORIES:Staff
END:VEVENT
END:VCALENDAR