BEGIN:VCALENDAR
VERSION:2.0
PRODID:-//Universiti Sains Islam Malaysia - ECPv5.16.3.1//NONSGML v1.0//EN
CALSCALE:GREGORIAN
METHOD:PUBLISH
X-WR-CALNAME:Universiti Sains Islam Malaysia
X-ORIGINAL-URL:https://www.usim.edu.my
X-WR-CALDESC:Events for Universiti Sains Islam Malaysia
BEGIN:VTIMEZONE
TZID:Asia/Kuala_Lumpur
BEGIN:STANDARD
TZOFFSETFROM:+0800
TZOFFSETTO:+0800
TZNAME:+08
DTSTART:20210101T000000
END:STANDARD
END:VTIMEZONE
BEGIN:VEVENT
DTSTART;TZID=Asia/Kuala_Lumpur:20211210T120000
DTEND;TZID=Asia/Kuala_Lumpur:20211210T130000
DTSTAMP:20260420T141737
CREATED:20211209T045345Z
LAST-MODIFIED:20211209T045345Z
UID:65747-1639137600-1639141200@www.usim.edu.my
SUMMARY:Tazkirah Khutbah Jumaat & Ramah Mesra Bersama YB Senator Datuk Dr Zulkifli Mohamad Al-Bakri
DESCRIPTION:
URL:https://www.usim.edu.my/event/tazkirah-khutbah-jumaat-ramah-mesra-bersama-yb-senator-datuk-dr-zulkifli-mohamad-al-bakri/
LOCATION:Pusat Islam
CATEGORIES:Staff,Student
END:VEVENT
END:VCALENDAR