BEGIN:VCALENDAR
VERSION:2.0
PRODID:-//Universiti Sains Islam Malaysia - ECPv5.16.3.1//NONSGML v1.0//EN
CALSCALE:GREGORIAN
METHOD:PUBLISH
X-WR-CALNAME:Universiti Sains Islam Malaysia
X-ORIGINAL-URL:https://www.usim.edu.my
X-WR-CALDESC:Events for Universiti Sains Islam Malaysia
BEGIN:VTIMEZONE
TZID:Asia/Kuala_Lumpur
BEGIN:STANDARD
TZOFFSETFROM:+0800
TZOFFSETTO:+0800
TZNAME:+08
DTSTART:20170101T000000
END:STANDARD
END:VTIMEZONE
BEGIN:VEVENT
DTSTART;VALUE=DATE:20170802
DTEND;VALUE=DATE:20170803
DTSTAMP:20260425T094632
CREATED:20170105T035055Z
LAST-MODIFIED:20170802T024535Z
UID:38577-1501632000-1501718399@www.usim.edu.my
SUMMARY:MAKAN MALAM AMAL 2017 Charity Dinner For Fee and Friends
DESCRIPTION:
URL:https://www.usim.edu.my/event/makan-malam-amal-2017-charity-dinner-fee-friends/
LOCATION:Dewan Tuanku Canselor\, USIM
CATEGORIES:Others
END:VEVENT
END:VCALENDAR