BEGIN:VCALENDAR
VERSION:2.0
PRODID:-//Universiti Sains Islam Malaysia - ECPv5.16.3.1//NONSGML v1.0//EN
CALSCALE:GREGORIAN
METHOD:PUBLISH
X-WR-CALNAME:Universiti Sains Islam Malaysia
X-ORIGINAL-URL:https://www.usim.edu.my
X-WR-CALDESC:Events for Universiti Sains Islam Malaysia
BEGIN:VTIMEZONE
TZID:Asia/Kuala_Lumpur
BEGIN:STANDARD
TZOFFSETFROM:+0800
TZOFFSETTO:+0800
TZNAME:+08
DTSTART:20170101T000000
END:STANDARD
END:VTIMEZONE
BEGIN:VEVENT
DTSTART;TZID=Asia/Kuala_Lumpur:20170817T100000
DTEND;TZID=Asia/Kuala_Lumpur:20170817T120000
DTSTAMP:20260425T100303
CREATED:20170814T033619Z
LAST-MODIFIED:20170814T033750Z
UID:39297-1502964000-1502971200@www.usim.edu.my
SUMMARY:Syarahan Umum "REVOLUSI INDUSTRI KE-4: CABARAN DAN PELUANG MENERUSI PERSPEKTIF QALBU"
DESCRIPTION:
URL:https://www.usim.edu.my/event/syarahan-umum-revolusi-industri-ke-4-cabaran-dan-peluang-menerusi-perspektif-qalbu/
LOCATION:Bilik Senat UKM
CATEGORIES:Others,Research,Student
END:VEVENT
END:VCALENDAR