BEGIN:VCALENDAR
VERSION:2.0
PRODID:-//Universiti Sains Islam Malaysia - ECPv5.16.3.1//NONSGML v1.0//EN
CALSCALE:GREGORIAN
METHOD:PUBLISH
X-WR-CALNAME:Universiti Sains Islam Malaysia
X-ORIGINAL-URL:https://www.usim.edu.my
X-WR-CALDESC:Events for Universiti Sains Islam Malaysia
BEGIN:VTIMEZONE
TZID:Asia/Kuala_Lumpur
BEGIN:STANDARD
TZOFFSETFROM:+0800
TZOFFSETTO:+0800
TZNAME:+08
DTSTART:20170101T000000
END:STANDARD
END:VTIMEZONE
BEGIN:VEVENT
DTSTART;TZID=Asia/Kuala_Lumpur:20170913T080000
DTEND;TZID=Asia/Kuala_Lumpur:20170913T170000
DTSTAMP:20260425T080445
CREATED:20170807T060316Z
LAST-MODIFIED:20170807T060615Z
UID:39118-1505289600-1505322000@www.usim.edu.my
SUMMARY:PNB USIM SHARIAH GOVERNANCE AND ASSURANCE CONFERENCE 2017
DESCRIPTION:
URL:https://www.usim.edu.my/event/pnb-usim-shariah-governance-assurance-conference-2017/
LOCATION:Royal Chulan\, Kuala Lumpur\, Malaysia
CATEGORIES:Others
GEO:4.210484;101.975766
END:VEVENT
END:VCALENDAR