BEGIN:VCALENDAR
VERSION:2.0
PRODID:-//Universiti Sains Islam Malaysia - ECPv5.16.3.1//NONSGML v1.0//EN
CALSCALE:GREGORIAN
METHOD:PUBLISH
X-WR-CALNAME:Universiti Sains Islam Malaysia
X-ORIGINAL-URL:https://www.usim.edu.my
X-WR-CALDESC:Events for Universiti Sains Islam Malaysia
BEGIN:VTIMEZONE
TZID:Asia/Kuala_Lumpur
BEGIN:STANDARD
TZOFFSETFROM:+0800
TZOFFSETTO:+0800
TZNAME:+08
DTSTART:20170101T000000
END:STANDARD
END:VTIMEZONE
BEGIN:VEVENT
DTSTART;TZID=Asia/Kuala_Lumpur:20170919T080000
DTEND;TZID=Asia/Kuala_Lumpur:20170920T170000
DTSTAMP:20260425T080446
CREATED:20170807T061330Z
LAST-MODIFIED:20170911T023318Z
UID:39131-1505808000-1505926800@www.usim.edu.my
SUMMARY:MUKTAMAR WAQF IQLIMI IV 2017
DESCRIPTION:
URL:https://www.usim.edu.my/event/muktamar-waqf-iqlimi-iv-2017/
LOCATION:Dewan Kuliah 1.1\, Fakulti Ekonomi dan Muamalat\, USIM
CATEGORIES:Conference / Seminar,Others
END:VEVENT
END:VCALENDAR