BEGIN:VCALENDAR
VERSION:2.0
PRODID:-//Universiti Sains Islam Malaysia - ECPv5.16.3.1//NONSGML v1.0//EN
CALSCALE:GREGORIAN
METHOD:PUBLISH
X-WR-CALNAME:Universiti Sains Islam Malaysia
X-ORIGINAL-URL:https://www.usim.edu.my
X-WR-CALDESC:Events for Universiti Sains Islam Malaysia
BEGIN:VTIMEZONE
TZID:Asia/Kuala_Lumpur
BEGIN:STANDARD
TZOFFSETFROM:+0800
TZOFFSETTO:+0800
TZNAME:+08
DTSTART:20170101T000000
END:STANDARD
END:VTIMEZONE
BEGIN:VEVENT
DTSTART;TZID=Asia/Kuala_Lumpur:20170930T080000
DTEND;TZID=Asia/Kuala_Lumpur:20171001T170000
DTSTAMP:20260425T062145
CREATED:20170807T061815Z
LAST-MODIFIED:20170807T061928Z
UID:39137-1506758400-1506877200@www.usim.edu.my
SUMMARY:I-Stet 2017 Seminar Tamadun\, Etnik & Turaht Islami
DESCRIPTION:
URL:https://www.usim.edu.my/event/stet-2017-seminar-tamadun-etnik-turaht-islami/
LOCATION:Dewan Tuanku Canselor\, USIM
CATEGORIES:Conference / Seminar,Others
END:VEVENT
END:VCALENDAR