BEGIN:VCALENDAR
VERSION:2.0
PRODID:-//Universiti Sains Islam Malaysia - ECPv5.16.3.1//NONSGML v1.0//EN
CALSCALE:GREGORIAN
METHOD:PUBLISH
X-WR-CALNAME:Universiti Sains Islam Malaysia
X-ORIGINAL-URL:https://www.usim.edu.my
X-WR-CALDESC:Events for Universiti Sains Islam Malaysia
BEGIN:VTIMEZONE
TZID:Asia/Kuala_Lumpur
BEGIN:STANDARD
TZOFFSETFROM:+0800
TZOFFSETTO:+0800
TZNAME:+08
DTSTART:20170101T000000
END:STANDARD
END:VTIMEZONE
BEGIN:VEVENT
DTSTART;TZID=Asia/Kuala_Lumpur:20171004T080000
DTEND;TZID=Asia/Kuala_Lumpur:20171005T170000
DTSTAMP:20260425T062023
CREATED:20170803T082019Z
LAST-MODIFIED:20170803T082133Z
UID:39046-1507104000-1507222800@www.usim.edu.my
SUMMARY:International Language & Educational Conference 2017
DESCRIPTION:
URL:https://www.usim.edu.my/event/international-language-educational-conference-2017/
CATEGORIES:Academic,Others
END:VEVENT
END:VCALENDAR