BEGIN:VCALENDAR
VERSION:2.0
PRODID:-//Universiti Sains Islam Malaysia - ECPv5.16.3.1//NONSGML v1.0//EN
CALSCALE:GREGORIAN
METHOD:PUBLISH
X-WR-CALNAME:Universiti Sains Islam Malaysia
X-ORIGINAL-URL:https://www.usim.edu.my
X-WR-CALDESC:Events for Universiti Sains Islam Malaysia
BEGIN:VTIMEZONE
TZID:Asia/Kuala_Lumpur
BEGIN:STANDARD
TZOFFSETFROM:+0800
TZOFFSETTO:+0800
TZNAME:+08
DTSTART:20180101T000000
END:STANDARD
END:VTIMEZONE
BEGIN:VEVENT
DTSTART;TZID=Asia/Kuala_Lumpur:20180106T090000
DTEND;TZID=Asia/Kuala_Lumpur:20180106T110000
DTSTAMP:20260425T011835
CREATED:20180102T035515Z
LAST-MODIFIED:20180102T093314Z
UID:41483-1515229200-1515236400@www.usim.edu.my
SUMMARY:IQRA'@USIM - OKU Mendidik Dengan Hati
DESCRIPTION:
URL:https://www.usim.edu.my/event/iqrausim-oku-mendidik-dengan-hati/
LOCATION:Studio Panggung Budaya\, Pusat Kebudayaan USIM\, Bangunan Hal Ehwal Pelajar USIM\, Nilai\, Malaysia
CATEGORIES:Others,Staff,Student
ATTACH;FMTTYPE=image/jpeg:https://www.usim.edu.my/wp-content/uploads/2018/01/IQRA@USIM-OKU-POSTER.jpg
GEO:4.210484;101.975766
X-APPLE-STRUCTURED-LOCATION;VALUE=URI;X-ADDRESS=Studio Panggung Budaya Pusat Kebudayaan USIM Bangunan Hal Ehwal Pelajar USIM Nilai Malaysia;X-APPLE-RADIUS=500;X-TITLE=Bangunan Hal Ehwal Pelajar USIM:geo:101.975766,4.210484
END:VEVENT
END:VCALENDAR