BEGIN:VCALENDAR
VERSION:2.0
PRODID:-//Universiti Sains Islam Malaysia - ECPv5.16.3.1//NONSGML v1.0//EN
CALSCALE:GREGORIAN
METHOD:PUBLISH
X-WR-CALNAME:Universiti Sains Islam Malaysia
X-ORIGINAL-URL:https://www.usim.edu.my
X-WR-CALDESC:Events for Universiti Sains Islam Malaysia
BEGIN:VTIMEZONE
TZID:Asia/Kuala_Lumpur
BEGIN:STANDARD
TZOFFSETFROM:+0800
TZOFFSETTO:+0800
TZNAME:+08
DTSTART:20190101T000000
END:STANDARD
END:VTIMEZONE
BEGIN:VEVENT
DTSTART;TZID=Asia/Kuala_Lumpur:20190803T080000
DTEND;TZID=Asia/Kuala_Lumpur:20190803T120000
DTSTAMP:20260423T162343
CREATED:20190718T042812Z
LAST-MODIFIED:20190718T042812Z
UID:50946-1564819200-1564833600@www.usim.edu.my
SUMMARY:Kayuhan Ukhuwah Bersama YAM Tunku Besar Seri Menanti Tunku Ali Redhauddin Ibni Tuanku Muhriz
DESCRIPTION:Kayuhan Ukhuwah Bersama YAM Tunku Besar Seri Menanti Tunku Ali Redhauddin Ibni Tuanku Muhriz \nPro Canselor USIM
URL:https://www.usim.edu.my/event/kayuhan-ukhuwah-bersama-yam-tunku-besar-seri-menanti-tunku-ali-redhauddin-ibni-tuanku-muhriz/
LOCATION:usim
CATEGORIES:Academic,Administration,Others,Staff,Student
END:VEVENT
END:VCALENDAR