BEGIN:VCALENDAR
VERSION:2.0
PRODID:-//Universiti Sains Islam Malaysia - ECPv5.16.3.1//NONSGML v1.0//EN
CALSCALE:GREGORIAN
METHOD:PUBLISH
X-WR-CALNAME:Universiti Sains Islam Malaysia
X-ORIGINAL-URL:https://www.usim.edu.my
X-WR-CALDESC:Events for Universiti Sains Islam Malaysia
BEGIN:VTIMEZONE
TZID:Asia/Kuala_Lumpur
BEGIN:STANDARD
TZOFFSETFROM:+0800
TZOFFSETTO:+0800
TZNAME:+08
DTSTART:20190101T000000
END:STANDARD
END:VTIMEZONE
BEGIN:VEVENT
DTSTART;TZID=Asia/Kuala_Lumpur:20190814T210000
DTEND;TZID=Asia/Kuala_Lumpur:20190814T233000
DTSTAMP:20260423T175402
CREATED:20190722T035756Z
LAST-MODIFIED:20190722T035756Z
UID:50993-1565816400-1565825400@www.usim.edu.my
SUMMARY:Majlis Makan Malam Rengimental PALAPES USIM Bersama Canselor
DESCRIPTION:
URL:https://www.usim.edu.my/event/majlis-makan-malam-rengimental-palapes-usim-bersama-canselor/
LOCATION:usim
CATEGORIES:Others
END:VEVENT
END:VCALENDAR