BEGIN:VCALENDAR
VERSION:2.0
PRODID:-//Universiti Sains Islam Malaysia - ECPv5.16.3.1//NONSGML v1.0//EN
CALSCALE:GREGORIAN
METHOD:PUBLISH
X-WR-CALNAME:Universiti Sains Islam Malaysia
X-ORIGINAL-URL:https://www.usim.edu.my
X-WR-CALDESC:Events for Universiti Sains Islam Malaysia
BEGIN:VTIMEZONE
TZID:Asia/Kuala_Lumpur
BEGIN:STANDARD
TZOFFSETFROM:+0800
TZOFFSETTO:+0800
TZNAME:+08
DTSTART:20190101T000000
END:STANDARD
END:VTIMEZONE
BEGIN:VEVENT
DTSTART;TZID=Asia/Kuala_Lumpur:20190927T090000
DTEND;TZID=Asia/Kuala_Lumpur:20190927T113000
DTSTAMP:20260423T143600
CREATED:20190903T013653Z
LAST-MODIFIED:20190903T013653Z
UID:51648-1569574800-1569583800@www.usim.edu.my
SUMMARY:Perarakan Khas dan Perasmian Penutup Sambutan Bulan Kebangsaan USIM 2019
DESCRIPTION:
URL:https://www.usim.edu.my/event/perarakan-khas-dan-perasmian-penutup-sambutan-bulan-kebangsaan-usim-2019/
LOCATION:Dewan Tuanku Canselor\, USIM
CATEGORIES:Academic,Administration,Others,Staff,Student
END:VEVENT
END:VCALENDAR