BEGIN:VCALENDAR
VERSION:2.0
PRODID:-//Universiti Sains Islam Malaysia - ECPv5.16.3.1//NONSGML v1.0//EN
CALSCALE:GREGORIAN
METHOD:PUBLISH
X-WR-CALNAME:Universiti Sains Islam Malaysia
X-ORIGINAL-URL:https://www.usim.edu.my
X-WR-CALDESC:Events for Universiti Sains Islam Malaysia
BEGIN:VTIMEZONE
TZID:Asia/Kuala_Lumpur
BEGIN:STANDARD
TZOFFSETFROM:+0800
TZOFFSETTO:+0800
TZNAME:+08
DTSTART:20210101T000000
END:STANDARD
END:VTIMEZONE
BEGIN:VEVENT
DTSTART;VALUE=DATE:20210917
DTEND;VALUE=DATE:20210918
DTSTAMP:20260419T205222
CREATED:20210814T091712Z
LAST-MODIFIED:20210814T091712Z
UID:64583-1631836800-1631923199@www.usim.edu.my
SUMMARY:Khutbah Jumaat Edisi Bulan Kebangsaan
DESCRIPTION:
URL:https://www.usim.edu.my/event/khutbah-jumaat-edisi-bulan-kebangsaan-3/
LOCATION:Kompleks Islam Tuanku Muhriz
CATEGORIES:Academic,Faculty,Others,Staff,Student
END:VEVENT
END:VCALENDAR