BEGIN:VCALENDAR
VERSION:2.0
PRODID:-//Universiti Sains Islam Malaysia - ECPv5.16.3.1//NONSGML v1.0//EN
CALSCALE:GREGORIAN
METHOD:PUBLISH
X-WR-CALNAME:Universiti Sains Islam Malaysia
X-ORIGINAL-URL:https://www.usim.edu.my
X-WR-CALDESC:Events for Universiti Sains Islam Malaysia
BEGIN:VTIMEZONE
TZID:Asia/Kuala_Lumpur
BEGIN:STANDARD
TZOFFSETFROM:+0800
TZOFFSETTO:+0800
TZNAME:+08
DTSTART:20210101T000000
END:STANDARD
END:VTIMEZONE
BEGIN:VEVENT
DTSTART;TZID=Asia/Kuala_Lumpur:20210919T153000
DTEND;TZID=Asia/Kuala_Lumpur:20210919T170000
DTSTAMP:20260419T205301
CREATED:20210914T082017Z
LAST-MODIFIED:20210914T082017Z
UID:64898-1632065400-1632070800@www.usim.edu.my
SUMMARY:Majlis Penutup dan Penghargaan Petugas PPV USIM
DESCRIPTION:
URL:https://www.usim.edu.my/event/majlis-penutup-dan-penghargaan-petugas-ppv-usim/
CATEGORIES:Administration,Others,Staff
END:VEVENT
END:VCALENDAR