BEGIN:VCALENDAR
VERSION:2.0
PRODID:-//Universiti Sains Islam Malaysia - ECPv5.16.3.1//NONSGML v1.0//EN
CALSCALE:GREGORIAN
METHOD:PUBLISH
X-WR-CALNAME:Universiti Sains Islam Malaysia
X-ORIGINAL-URL:https://www.usim.edu.my/ms/
X-WR-CALDESC:Events for Universiti Sains Islam Malaysia
BEGIN:VTIMEZONE
TZID:UTC
BEGIN:STANDARD
TZOFFSETFROM:+0000
TZOFFSETTO:+0000
TZNAME:UTC
DTSTART:20220101T000000
END:STANDARD
END:VTIMEZONE
BEGIN:VEVENT
DTSTART;TZID=UTC:20220906T080000
DTEND;TZID=UTC:20220906T163000
DTSTAMP:20260422T213206
CREATED:20220826T073909Z
LAST-MODIFIED:20220826T073939Z
UID:71136-1662451200-1662481800@www.usim.edu.my
SUMMARY:2nd Innovation Bank Challenge 2022 (IBC)
DESCRIPTION:2nd Innovation Bank Challenge 2022 (IBC)
URL:https://www.usim.edu.my/ms/event/2nd-innovation-bank-challenge-2022-ibc/
LOCATION:Dewan Besar KGI
CATEGORIES:Staff
END:VEVENT
END:VCALENDAR