BEGIN:VCALENDAR
VERSION:2.0
PRODID:-//Universiti Sains Islam Malaysia - ECPv5.16.3.1//NONSGML v1.0//EN
CALSCALE:GREGORIAN
METHOD:PUBLISH
X-WR-CALNAME:Universiti Sains Islam Malaysia
X-ORIGINAL-URL:https://www.usim.edu.my/ms/
X-WR-CALDESC:Events for Universiti Sains Islam Malaysia
BEGIN:VTIMEZONE
TZID:UTC
BEGIN:STANDARD
TZOFFSETFROM:+0000
TZOFFSETTO:+0000
TZNAME:UTC
DTSTART:20220101T000000
END:STANDARD
END:VTIMEZONE
BEGIN:VEVENT
DTSTART;TZID=UTC:20221011T090000
DTEND;TZID=UTC:20221011T100000
DTSTAMP:20260425T235337
CREATED:20221003T033007Z
LAST-MODIFIED:20221003T033033Z
UID:72320-1665478800-1665482400@www.usim.edu.my
SUMMARY:Hari Pendaftaran Siswazah Baharu Semester 1 2022/2023 (A221)
DESCRIPTION:Hari Pendaftaran Siswazah Baharu Semester 1 2022/2023 (A221)
URL:https://www.usim.edu.my/ms/event/hari-pendaftaran-siswazah-baharu-semester-1-2022-2023-a221/
LOCATION:Galeri\, Aras 1\, Bangunan Canselori
CATEGORIES:Staff
END:VEVENT
END:VCALENDAR