BEGIN:VCALENDAR
VERSION:2.0
PRODID:-//Universiti Sains Islam Malaysia - ECPv5.16.3.1//NONSGML v1.0//EN
CALSCALE:GREGORIAN
METHOD:PUBLISH
X-WR-CALNAME:Universiti Sains Islam Malaysia
X-ORIGINAL-URL:https://www.usim.edu.my/ms/
X-WR-CALDESC:Events for Universiti Sains Islam Malaysia
BEGIN:VTIMEZONE
TZID:UTC
BEGIN:STANDARD
TZOFFSETFROM:+0000
TZOFFSETTO:+0000
TZNAME:UTC
DTSTART:20220101T000000
END:STANDARD
END:VTIMEZONE
BEGIN:VEVENT
DTSTART;TZID=UTC:20220811T143000
DTEND;TZID=UTC:20220811T170000
DTSTAMP:20260422T011313
CREATED:20220809T074002Z
LAST-MODIFIED:20220809T074038Z
UID:69416-1660228200-1660237200@www.usim.edu.my
SUMMARY:Kunjungan Hormat Daripada Persatuan Pegawai Syariah Malaysia
DESCRIPTION:TETAMU KEHORMAT / PERASMI\n:\nKETUA HAKIM SYARIE JABATAN KEHAKIMAN DAN SYARIAH NEGERI SEMBILAN
URL:https://www.usim.edu.my/ms/event/kunjungan-hormat-daripada-persatuan-pegawai-syariah-malaysia/
LOCATION:Bilik Mesyuarat LPU
CATEGORIES:Staff
END:VEVENT
END:VCALENDAR