BEGIN:VCALENDAR
VERSION:2.0
PRODID:-//Universiti Sains Islam Malaysia - ECPv5.16.3.1//NONSGML v1.0//EN
CALSCALE:GREGORIAN
METHOD:PUBLISH
X-WR-CALNAME:Universiti Sains Islam Malaysia
X-ORIGINAL-URL:https://www.usim.edu.my/ms/
X-WR-CALDESC:Events for Universiti Sains Islam Malaysia
BEGIN:VTIMEZONE
TZID:UTC
BEGIN:STANDARD
TZOFFSETFROM:+0000
TZOFFSETTO:+0000
TZNAME:UTC
DTSTART:20220101T000000
END:STANDARD
END:VTIMEZONE
BEGIN:VEVENT
DTSTART;TZID=UTC:20221026T143000
DTEND;TZID=UTC:20221026T163000
DTSTAMP:20260426T115215
CREATED:20221020T010337Z
LAST-MODIFIED:20221020T010539Z
UID:72725-1666794600-1666801800@www.usim.edu.my
SUMMARY:Kunjungan Hormat Delegasi Dari Binoria International University\, Pakistan Ke USIM
DESCRIPTION:
URL:https://www.usim.edu.my/ms/event/kunjungan-hormat-delegasi-dari-binoria-international-university-pakistan-ke-usim/
LOCATION:Bilik Mesyuarat LPU\, USIM
CATEGORIES:Staff
END:VEVENT
END:VCALENDAR