BEGIN:VCALENDAR
VERSION:2.0
PRODID:-//Universiti Sains Islam Malaysia - ECPv5.16.3.1//NONSGML v1.0//EN
CALSCALE:GREGORIAN
METHOD:PUBLISH
X-WR-CALNAME:Universiti Sains Islam Malaysia
X-ORIGINAL-URL:https://www.usim.edu.my/ms/
X-WR-CALDESC:Events for Universiti Sains Islam Malaysia
BEGIN:VTIMEZONE
TZID:UTC
BEGIN:STANDARD
TZOFFSETFROM:+0000
TZOFFSETTO:+0000
TZNAME:UTC
DTSTART:20220101T000000
END:STANDARD
END:VTIMEZONE
BEGIN:VEVENT
DTSTART;TZID=UTC:20220908T103000
DTEND;TZID=UTC:20220908T133000
DTSTAMP:20260423T041454
CREATED:20220901T071958Z
LAST-MODIFIED:20220901T072020Z
UID:71315-1662633000-1662643800@www.usim.edu.my
SUMMARY:Kunjungan Hormat Yayasan Canselor UKM ke Pejabat LPU dan Pusat Wakaf dan Zakat\, USIM
DESCRIPTION:Kunjungan Hormat Yayasan Canselor UKM ke Pejabat LPU dan Pusat Wakaf dan Zakat\, USIM
URL:https://www.usim.edu.my/ms/event/kunjungan-hormat-yayasan-canselor-ukm-ke-pejabat-lpu-dan-pusat-wakaf-dan-zakat-usim/
LOCATION:Bilik Mesyuarat LPU
CATEGORIES:Staff
END:VEVENT
END:VCALENDAR