BEGIN:VCALENDAR
VERSION:2.0
PRODID:-//Universiti Sains Islam Malaysia - ECPv5.16.3.1//NONSGML v1.0//EN
CALSCALE:GREGORIAN
METHOD:PUBLISH
X-WR-CALNAME:Universiti Sains Islam Malaysia
X-ORIGINAL-URL:https://www.usim.edu.my/ms/
X-WR-CALDESC:Events for Universiti Sains Islam Malaysia
BEGIN:VTIMEZONE
TZID:UTC
BEGIN:STANDARD
TZOFFSETFROM:+0000
TZOFFSETTO:+0000
TZNAME:UTC
DTSTART:20220101T000000
END:STANDARD
END:VTIMEZONE
BEGIN:VEVENT
DTSTART;TZID=UTC:20221005T100000
DTEND;TZID=UTC:20221005T123000
DTSTAMP:20260426T031036
CREATED:20220922T071410Z
LAST-MODIFIED:20220922T071436Z
UID:72200-1664964000-1664973000@www.usim.edu.my
SUMMARY:Lawatan Kerja Delegasi Yang Berhormat Timbalan Menteri Utiliti & Telekomunikasi (UTILITI) Sarawak Ke USIM
DESCRIPTION:
URL:https://www.usim.edu.my/ms/event/lawatan-kerja-delegasi-yang-berhormat-timbalan-menteri-utiliti-telekomunikasi-utiliti-sarawak-ke-usim/
LOCATION:Dewan Senat USIM
CATEGORIES:Staff
END:VEVENT
END:VCALENDAR