BEGIN:VCALENDAR
VERSION:2.0
PRODID:-//Universiti Sains Islam Malaysia - ECPv5.16.3.1//NONSGML v1.0//EN
CALSCALE:GREGORIAN
METHOD:PUBLISH
X-WR-CALNAME:Universiti Sains Islam Malaysia
X-ORIGINAL-URL:https://www.usim.edu.my/ms/
X-WR-CALDESC:Events for Universiti Sains Islam Malaysia
BEGIN:VTIMEZONE
TZID:Asia/Kuala_Lumpur
BEGIN:STANDARD
TZOFFSETFROM:+0800
TZOFFSETTO:+0800
TZNAME:+08
DTSTART:20220101T000000
END:STANDARD
END:VTIMEZONE
BEGIN:VEVENT
DTSTART;TZID=Asia/Kuala_Lumpur:20220324T140000
DTEND;TZID=Asia/Kuala_Lumpur:20220324T170000
DTSTAMP:20260424T041009
CREATED:20220310T034714Z
LAST-MODIFIED:20220310T034732Z
UID:66628-1648130400-1648141200@www.usim.edu.my
SUMMARY:LAWATAN KERJA UNIVERSITI MALAYSIA PAHANG (UMP) KE INSTITUT SAINS ISLAM (ISI)
DESCRIPTION:
URL:https://www.usim.edu.my/ms/event/lawatan-kerja-universiti-malaysia-pahang-ump-ke-institut-sains-islam-isi/
LOCATION:BILIK MESYUARAT ISI\, ARAS 6\, BANGUNAN TAMHIDI
CATEGORIES:Staff
END:VEVENT
END:VCALENDAR