BEGIN:VCALENDAR
VERSION:2.0
PRODID:-//Universiti Sains Islam Malaysia - ECPv5.16.3.1//NONSGML v1.0//EN
CALSCALE:GREGORIAN
METHOD:PUBLISH
X-WR-CALNAME:Universiti Sains Islam Malaysia
X-ORIGINAL-URL:https://www.usim.edu.my/ms/
X-WR-CALDESC:Events for Universiti Sains Islam Malaysia
BEGIN:VTIMEZONE
TZID:Asia/Kuala_Lumpur
BEGIN:STANDARD
TZOFFSETFROM:+0800
TZOFFSETTO:+0800
TZNAME:+08
DTSTART:20210101T000000
END:STANDARD
END:VTIMEZONE
BEGIN:VEVENT
DTSTART;TZID=Asia/Kuala_Lumpur:20211008T140000
DTEND;TZID=Asia/Kuala_Lumpur:20211008T170000
DTSTAMP:20260424T120332
CREATED:20210903T005055Z
LAST-MODIFIED:20211027T020846Z
UID:65373-1633701600-1633712400@www.usim.edu.my
SUMMARY:Majlis Anugerah Kecemerlangan dan Inovasi USIM 2020
DESCRIPTION:
URL:https://www.usim.edu.my/ms/event/majlis-anugerah-kecemerlangan-dan-inovasi-usim-2020/
LOCATION:dewan tuanku canselor
CATEGORIES:Academic,Faculty,Student
END:VEVENT
END:VCALENDAR