BEGIN:VCALENDAR
VERSION:2.0
PRODID:-//Universiti Sains Islam Malaysia - ECPv5.16.3.1//NONSGML v1.0//EN
CALSCALE:GREGORIAN
METHOD:PUBLISH
X-WR-CALNAME:Universiti Sains Islam Malaysia
X-ORIGINAL-URL:https://www.usim.edu.my/ms/
X-WR-CALDESC:Events for Universiti Sains Islam Malaysia
BEGIN:VTIMEZONE
TZID:Asia/Kuala_Lumpur
BEGIN:STANDARD
TZOFFSETFROM:+0800
TZOFFSETTO:+0800
TZNAME:+08
DTSTART:20220101T000000
END:STANDARD
END:VTIMEZONE
BEGIN:VEVENT
DTSTART;VALUE=DATE:20220330
DTEND;VALUE=DATE:20220331
DTSTAMP:20260424T054613
CREATED:20220309T012401Z
LAST-MODIFIED:20220309T013049Z
UID:66610-1648598400-1648684799@www.usim.edu.my
SUMMARY:Majlis Konvokesyen ke-19 USIM (Sidang 9)
DESCRIPTION:
URL:https://www.usim.edu.my/ms/event/majlis-konvokesyen-ke-19-usim-sidang-9/
LOCATION:Dewan Tuanku Canselor\, USIM
CATEGORIES:Academic,Faculty,Student
END:VEVENT
END:VCALENDAR