BEGIN:VCALENDAR
VERSION:2.0
PRODID:-//Universiti Sains Islam Malaysia - ECPv5.16.3.1//NONSGML v1.0//EN
CALSCALE:GREGORIAN
METHOD:PUBLISH
X-WR-CALNAME:Universiti Sains Islam Malaysia
X-ORIGINAL-URL:https://www.usim.edu.my/ms/
X-WR-CALDESC:Events for Universiti Sains Islam Malaysia
BEGIN:VTIMEZONE
TZID:UTC
BEGIN:STANDARD
TZOFFSETFROM:+0000
TZOFFSETTO:+0000
TZNAME:UTC
DTSTART:20220101T000000
END:STANDARD
END:VTIMEZONE
BEGIN:VEVENT
DTSTART;TZID=UTC:20221006T100000
DTEND;TZID=UTC:20221006T130000
DTSTAMP:20260425T235417
CREATED:20221003T011928Z
LAST-MODIFIED:20221003T012014Z
UID:72290-1665050400-1665061200@www.usim.edu.my
SUMMARY:Majlis Menandatangani Nota Kerjasama Antara USIM Dengan Jabatan Penjara Malaysia
DESCRIPTION:Majlis Menandatangani Nota Kerjasama Antara USIM Dengan Jabatan Penjara Malaysia
URL:https://www.usim.edu.my/ms/event/majlis-menandatangani-nota-kerjasama-antara-usim-dengan-jabatan-penjara-malaysia/
LOCATION:Bilik Mesyuarat Utama\, Aras 2\, FKP USIM
CATEGORIES:Staff
END:VEVENT
END:VCALENDAR