BEGIN:VCALENDAR
VERSION:2.0
PRODID:-//Universiti Sains Islam Malaysia - ECPv5.16.3.1//NONSGML v1.0//EN
CALSCALE:GREGORIAN
METHOD:PUBLISH
X-WR-CALNAME:Universiti Sains Islam Malaysia
X-ORIGINAL-URL:https://www.usim.edu.my/ms/
X-WR-CALDESC:Events for Universiti Sains Islam Malaysia
BEGIN:VTIMEZONE
TZID:UTC
BEGIN:STANDARD
TZOFFSETFROM:+0000
TZOFFSETTO:+0000
TZNAME:UTC
DTSTART:20220101T000000
END:STANDARD
END:VTIMEZONE
BEGIN:VEVENT
DTSTART;TZID=UTC:20220822T073000
DTEND;TZID=UTC:20220822T090000
DTSTAMP:20260421T233917
CREATED:20220815T063742Z
LAST-MODIFIED:20220815T063816Z
UID:69531-1661153400-1661158800@www.usim.edu.my
SUMMARY:Majlis Pelancaran Sambutan Bulan Kebangsaan USIM 2022
DESCRIPTION:MAJLIS PELANCARAN SAMBUTAN BULAN KEBANGSAAN USIM 2022 \n\n\n\nTETAMU KEHORMAT / PERASMI\n:\nNAIB CANSELOR USIM
URL:https://www.usim.edu.my/ms/event/majlis-pelancaran-sambutan-bulan-kebangsaan-usim-2022/
LOCATION:PINTU MASUK UTAMA USIM
CATEGORIES:Staff
END:VEVENT
END:VCALENDAR