BEGIN:VCALENDAR
VERSION:2.0
PRODID:-//Universiti Sains Islam Malaysia - ECPv5.16.3.1//NONSGML v1.0//EN
CALSCALE:GREGORIAN
METHOD:PUBLISH
X-WR-CALNAME:Universiti Sains Islam Malaysia
X-ORIGINAL-URL:https://www.usim.edu.my/ms/
X-WR-CALDESC:Events for Universiti Sains Islam Malaysia
BEGIN:VTIMEZONE
TZID:Asia/Kuala_Lumpur
BEGIN:STANDARD
TZOFFSETFROM:+0800
TZOFFSETTO:+0800
TZNAME:+08
DTSTART:20220101T000000
END:STANDARD
END:VTIMEZONE
BEGIN:VEVENT
DTSTART;TZID=Asia/Kuala_Lumpur:20220313T100000
DTEND;TZID=Asia/Kuala_Lumpur:20220313T130000
DTSTAMP:20260424T054352
CREATED:20220307T011219Z
LAST-MODIFIED:20220309T013412Z
UID:66548-1647165600-1647176400@www.usim.edu.my
SUMMARY:Majlis Pentauliahan Kor Sispa USIM
DESCRIPTION:
URL:https://www.usim.edu.my/ms/event/majlis-pentauliahan-kor-sispa-usim/
LOCATION:DKP 3\, USIM
CATEGORIES:Staff,Student
END:VEVENT
END:VCALENDAR